BEGIN:VCALENDAR
VERSION:2.0
PRODID:-//JB Collections - ECPv4.0.6//NONSGML v1.0//EN
CALSCALE:GREGORIAN
METHOD:PUBLISH
X-WR-CALNAME:JB Collections
X-ORIGINAL-URL:https://jbcollections.co.nz
X-WR-CALDESC:Events for JB Collections
BEGIN:VEVENT
DTSTART;TZID="UTC+0":20160910T100000
DTEND;TZID="UTC+0":20160910T123000
DTSTAMP:20260422T150554
CREATED:20150606T072642
LAST-MODIFIED:20160731T054323
UID:3737-1473501600-1473510600@jbcollections.co.nz
SUMMARY:Fused Glass Jewellery Workshop 10th Sept 2016
DESCRIPTION:Learn all the basics of glass fusing  and make 3 pieces of beautiful jewellery. The workshop fee includes all materials and you will have a large selection of glass\, including dichroic glass to choose from. Some of the firing will be done once you have left the workshop\, however you will learn the principles of firing and also get the chance to fire one of your pieces in a microwave kiln.\n\nA 50% deposit is required to hold a space on any JB collections workshop. Deposits are considered non refundable. However if you have to cancel for any reason\,  if I can fill your space then you will receive a refund.  If I can not\, I regret a refund will not be given.
URL:https://jbcollections.co.nz/event/fused-glass-jewellery-workshop-2/
LOCATION:Hillcrest\, Rotorua\, 3015\, New Zealand
CATEGORIES:Fused Glass Jewellery Workshops
ORGANIZER;CN="Jayne%20Baume":MAILTO:info@jbcollections.co.nz
END:VEVENT
END:VCALENDAR